BEGIN:VCALENDAR
VERSION:2.0
PRODID:https://www.umweltkalender-berlin.de
BEGIN:VTIMEZONE
TZID:Europe/Berlin
X-LIC-LOCATION:Europe/Berlin
BEGIN:DAYLIGHT
TZOFFSETFROM:+0100
TZOFFSETTO:+0200
TZNAME:CEST
DTSTART:19700329T020000
RRULE:FREQ=YEARLY;BYDAY=-1SU;BYMONTH=3
END:DAYLIGHT
BEGIN:STANDARD
TZOFFSETFROM:+0200
TZOFFSETTO:+0100
TZNAME:CET
DTSTART:19701025T030000
RRULE:FREQ=YEARLY;BYDAY=-1SU;BYMONTH=10
END:STANDARD
END:VTIMEZONE
BEGIN:VEVENT
LOCATION:Teufelsseechaussee 22, 14193 Berlin
SUMMARY:Die Berliner Forsten beim Bloom up 2026
DESCRIPTION:Das Umweltbildungszentrum im Herzen des Grunewalds, das Ökowerk Berlin, feiert den Frühling und das lassen sich auch die Berliner Forsten nicht entgehen.&nbsp;Zusammen mit unserem Standnachbarn, der Waldschule Spandau, gibt es Informatives und Spannendes rund um die Berliner Forsten und den Berliner Wald zu entdecken. Interaktive Aktionsmodule und ein Waldquiz sorgen dabei für Spaß und Abwechslung.&nbsp;&nbsp;Wir freuen uns auf Ihren Besuch.&nbsp;&nbsp;Mehr zum Fest.
DTSTART;TZID=Europe/Berlin:20260510T120000
DTEND;TZID=Europe/Berlin:20260510T170000
CLASS:PUBLIC
END:VEVENT
END:VCALENDAR
