BEGIN:VCALENDAR
VERSION:2.0
PRODID:https://www.umweltkalender-berlin.de
BEGIN:VTIMEZONE
TZID:Europe/Berlin
X-LIC-LOCATION:Europe/Berlin
BEGIN:DAYLIGHT
TZOFFSETFROM:+0100
TZOFFSETTO:+0200
TZNAME:CEST
DTSTART:19700329T020000
RRULE:FREQ=YEARLY;BYDAY=-1SU;BYMONTH=3
END:DAYLIGHT
BEGIN:STANDARD
TZOFFSETFROM:+0200
TZOFFSETTO:+0100
TZNAME:CET
DTSTART:19701025T030000
RRULE:FREQ=YEARLY;BYDAY=-1SU;BYMONTH=10
END:STANDARD
END:VTIMEZONE
BEGIN:VEVENT
LOCATION:Potsdamer Straße 68, 10785 Berlin
SUMMARY:Prüfung: BANU-Zertifikat Feldornithologie Bronze
DESCRIPTION:Für das Zertifikat werden Kenntnisse von 75 Vogelarten sowie systematisches und morphologisches Wissen und Lebensraum- und Sachkenntnisse geprüft. Die Artenliste für die Bronze-Qualifizierung sowie Details zu den Prüfungsanforderungen sind online frei zugänglich:&nbsp;https://banu-akademien.de/download-feldornithologie/.PrüfungsinhalteTeil A - Artenkenntnisse: 30 Arten der Artenliste&nbsp; müssen jeweils zur Hälfte optisch und akustisch erkannt und eindeutig benannt werden (maximal 30 Punkte)&nbsp;Teil B -&nbsp;Systematik, Morphologie, Lebensräume, Sachkenntnis und Methodenkompetenz:&nbsp;Fragen beziehungsweise Aufgaben zu den Themen Systematik, Morphologie, Lebensräume, Sachkenntnis und Methodenkompetenz&nbsp;müssen beantwortet werden (maximal 10 Punkte)&nbsp;Die Prüfung wird schriftlich abgenommen und gilt als bestanden, wenn mindestens 32 von 40 Punkten erreicht werden (80 %). Es sind keine Hilfsmittel zugelassen.
DTSTART;TZID=Europe/Berlin:20260611T180000
DTEND;TZID=Europe/Berlin:20260611T193000
CLASS:PUBLIC
END:VEVENT
END:VCALENDAR
