BEGIN:VCALENDAR
VERSION:2.0
PRODID:https://www.umweltkalender-berlin.de
BEGIN:VTIMEZONE
TZID:Europe/Berlin
X-LIC-LOCATION:Europe/Berlin
BEGIN:DAYLIGHT
TZOFFSETFROM:+0100
TZOFFSETTO:+0200
TZNAME:CEST
DTSTART:19700329T020000
RRULE:FREQ=YEARLY;BYDAY=-1SU;BYMONTH=3
END:DAYLIGHT
BEGIN:STANDARD
TZOFFSETFROM:+0200
TZOFFSETTO:+0100
TZNAME:CET
DTSTART:19701025T030000
RRULE:FREQ=YEARLY;BYDAY=-1SU;BYMONTH=10
END:STANDARD
END:VTIMEZONE
BEGIN:VEVENT
LOCATION:Schiffbauerdamm (neben Hausnr. 40, Bundespressekonferenz), 10117 Berlin
SUMMARY:Frieden braucht Wurzeln
DESCRIPTION:Zum Europatag lädt die Stiftung Berliner Mauer zusammen mit&nbsp;Koopkultur e.V.&nbsp;zu einem bunten Nachmittag ins Parlament der Bäume ein.&nbsp;Entdeckt den Ort mit einer Führung für Groß und Klein, verschiedenen künstlerischen Angeboten und einer Vorlesung für Kinder auf Rumänisch.&nbsp;Programm13 Uhr: Vorlesung (Rumänische Sprache)15 Uhr: FamilienführungWeitere Informationen hier.
DTSTART;TZID=Europe/Berlin:20260509T120000
DTEND;TZID=Europe/Berlin:20260509T170000
CLASS:PUBLIC
END:VEVENT
END:VCALENDAR
