BEGIN:VCALENDAR
VERSION:2.0
PRODID:https://www.umweltkalender-berlin.de
BEGIN:VTIMEZONE
TZID:Europe/Berlin
X-LIC-LOCATION:Europe/Berlin
BEGIN:DAYLIGHT
TZOFFSETFROM:+0100
TZOFFSETTO:+0200
TZNAME:CEST
DTSTART:19700329T020000
RRULE:FREQ=YEARLY;BYDAY=-1SU;BYMONTH=3
END:DAYLIGHT
BEGIN:STANDARD
TZOFFSETFROM:+0200
TZOFFSETTO:+0100
TZNAME:CET
DTSTART:19701025T030000
RRULE:FREQ=YEARLY;BYDAY=-1SU;BYMONTH=10
END:STANDARD
END:VTIMEZONE
BEGIN:VEVENT
LOCATION:Joachim-Gottschalk-Weg 21, 12353 Berlin
SUMMARY:Offener Reparaturtag 
DESCRIPTION:Du willst etwas Neues lernen? Hast Interesse an Reparatur? Du hast recherchiert, weißt was der Fehler ist, aber brauchst spezielles Werkzeug? Mittwochs reparieren wir gemeinsam. Keine Anmeldung oder Vorwissen nötig.
DTSTART;TZID=Europe/Berlin:20260428T140000
DTEND;TZID=Europe/Berlin:20260428T190000
CLASS:PUBLIC
END:VEVENT
END:VCALENDAR
