BEGIN:VCALENDAR
VERSION:2.0
PRODID:https://www.umweltkalender-berlin.de
BEGIN:VTIMEZONE
TZID:Europe/Berlin
X-LIC-LOCATION:Europe/Berlin
BEGIN:DAYLIGHT
TZOFFSETFROM:+0100
TZOFFSETTO:+0200
TZNAME:CEST
DTSTART:19700329T020000
RRULE:FREQ=YEARLY;BYDAY=-1SU;BYMONTH=3
END:DAYLIGHT
BEGIN:STANDARD
TZOFFSETFROM:+0200
TZOFFSETTO:+0100
TZNAME:CET
DTSTART:19701025T030000
RRULE:FREQ=YEARLY;BYDAY=-1SU;BYMONTH=10
END:STANDARD
END:VTIMEZONE
BEGIN:VEVENT
LOCATION:Britzer Garten, 12349 Berlin
SUMMARY:Ferienaktion: Willkommen in der Lehmwerkstatt
DESCRIPTION:Bei dieser spannenden und kreativen Veranstaltung haben Kinder die Möglichkeit, spielerisch und fantasievoll den natürlichen Werkstoff Lehm zu erkunden. Unter der kompetenten Anleitung erfahrener Lehmspezialist*innen, entdecken sie die vielfältigen Möglichkeiten des Materials. Die Kinder haben die Gelegenheit, kleine Figuren oder Skulpturen aus Lehm zu formen, ihrer Kreativität freien Lauf zu lassen und einzigartige Kunstwerke zu schaffen. Am Ende der Veranstaltung dürfen die Kinder ihre selbst gestalteten Lehmarbeiten mit nach Hause nehmen.Anbietende:&nbsp;Michael Weser im Auftrag vom Campus Stadt Natur&nbsp;Ihr möchtet dieses Angebot an einem bestimmten Tag exklusiv für eure Gruppe buchen? Schreibt uns einfach eine E-Mail!
DTSTART;TZID=Europe/Berlin:20260724T100000
DTEND;TZID=Europe/Berlin:20260724T153000
CLASS:PUBLIC
END:VEVENT
END:VCALENDAR
