BEGIN:VCALENDAR
VERSION:2.0
PRODID:https://www.umweltkalender-berlin.de
BEGIN:VTIMEZONE
TZID:Europe/Berlin
X-LIC-LOCATION:Europe/Berlin
BEGIN:DAYLIGHT
TZOFFSETFROM:+0100
TZOFFSETTO:+0200
TZNAME:CEST
DTSTART:19700329T020000
RRULE:FREQ=YEARLY;BYDAY=-1SU;BYMONTH=3
END:DAYLIGHT
BEGIN:STANDARD
TZOFFSETFROM:+0200
TZOFFSETTO:+0100
TZNAME:CET
DTSTART:19701025T030000
RRULE:FREQ=YEARLY;BYDAY=-1SU;BYMONTH=10
END:STANDARD
END:VTIMEZONE
BEGIN:VEVENT
LOCATION:Teufelsseechaussee 22, 14193 Berlin
SUMMARY:Wildbienen-Exkursion am Ökowerk im Grunewald
DESCRIPTION:Seit 2018 setzt sich die Deutsche Wildtier Stiftung für den Schutz von Wildbienen in der Hauptstadt ein. Bei unserer Führung über das schöne Gelände des Ökowerk e.V. zeigen wir den Teilnehmenden die Vielfalt der Wildbienen.&nbsp;&nbsp;Es wird Infos und Wissenswertes zu Wildbienen und ihren Lebensräumen geben und wir gehen auf die Suche nach den Nistplätzen der Tiere. Das Ganze ist eingebettet in einen gemütlichen Spaziergang über das Ökowerkgelände.
DTSTART;TZID=Europe/Berlin:20260422T153000
DTEND;TZID=Europe/Berlin:20260422T173000
CLASS:PUBLIC
END:VEVENT
END:VCALENDAR
