BEGIN:VCALENDAR
VERSION:2.0
PRODID:https://www.umweltkalender-berlin.de
BEGIN:VTIMEZONE
TZID:Europe/Berlin
X-LIC-LOCATION:Europe/Berlin
BEGIN:DAYLIGHT
TZOFFSETFROM:+0100
TZOFFSETTO:+0200
TZNAME:CEST
DTSTART:19700329T020000
RRULE:FREQ=YEARLY;BYDAY=-1SU;BYMONTH=3
END:DAYLIGHT
BEGIN:STANDARD
TZOFFSETFROM:+0200
TZOFFSETTO:+0100
TZNAME:CET
DTSTART:19701025T030000
RRULE:FREQ=YEARLY;BYDAY=-1SU;BYMONTH=10
END:STANDARD
END:VTIMEZONE
BEGIN:VEVENT
LOCATION:Karower Teiche, 13189 Berlin
SUMMARY:Die Karower Teiche - die ehemaligen Sandgruben vom Bahndamm
DESCRIPTION:														Der Karower Heimatforscher Stefan Hückler zeigt bei einer Wanderung die Entwicklung der Teiche von eiszeitliche Sandbergen, über Rieselfeldwasserbecken, bis hin zu den heute geschützten Brutplätzen seltener Vogelarten. Hier nisten Eisvogel, Silberreiher, Kraniche und Wildgänse neben grasenden Rindern. Oft zu sehen ist auch Damwild und Rehwild.Die Exkursion ist für Rollstuhlfahrer:innen mit Begleitung geeignet.
DTSTART;TZID=Europe/Berlin:20260509T133000
DTEND;TZID=Europe/Berlin:20260509T163000
CLASS:PUBLIC
END:VEVENT
END:VCALENDAR
