BEGIN:VCALENDAR
VERSION:2.0
PRODID:https://www.umweltkalender-berlin.de
BEGIN:VTIMEZONE
TZID:Europe/Berlin
X-LIC-LOCATION:Europe/Berlin
BEGIN:DAYLIGHT
TZOFFSETFROM:+0100
TZOFFSETTO:+0200
TZNAME:CEST
DTSTART:19700329T020000
RRULE:FREQ=YEARLY;BYDAY=-1SU;BYMONTH=3
END:DAYLIGHT
BEGIN:STANDARD
TZOFFSETFROM:+0200
TZOFFSETTO:+0100
TZNAME:CET
DTSTART:19701025T030000
RRULE:FREQ=YEARLY;BYDAY=-1SU;BYMONTH=10
END:STANDARD
END:VTIMEZONE
BEGIN:VEVENT
LOCATION:Mark-Twain-Str. 27, 12627 Berlin
SUMMARY:Nature Journaling - Zeichnend und schreibend die Natur entdecken
DESCRIPTION:In diesem Kurs lernen Sie, Naturphänomene bewusst wahrzunehmen und Ihre Beobachtungen in Worten, Bildern und Zahlen festzuhalten. In einer praktischen Einführung machen Sie sich mit einfachen Schreib- und Zeichentechniken vertraut, erhalten Anregungen zur Gestaltung Ihrer Journalseiten und zur Kombination von Bild und Text. Anschließend beobachten wir zeichnend und schreibend die Flora und Fauna im Garten und in der Umgebung der VHS.Vorkenntnisse sind nicht erforderlich.Bei gutem Wetter kann der Unterricht auch auf dem Schulgelände stattfinden.
DTSTART;TZID=Europe/Berlin:20260613T100000
DTEND;TZID=Europe/Berlin:20260613T163000
CLASS:PUBLIC
END:VEVENT
END:VCALENDAR
