BEGIN:VCALENDAR
VERSION:2.0
PRODID:https://www.umweltkalender-berlin.de
BEGIN:VTIMEZONE
TZID:Europe/Berlin
X-LIC-LOCATION:Europe/Berlin
BEGIN:DAYLIGHT
TZOFFSETFROM:+0100
TZOFFSETTO:+0200
TZNAME:CEST
DTSTART:19700329T020000
RRULE:FREQ=YEARLY;BYDAY=-1SU;BYMONTH=3
END:DAYLIGHT
BEGIN:STANDARD
TZOFFSETFROM:+0200
TZOFFSETTO:+0100
TZNAME:CET
DTSTART:19701025T030000
RRULE:FREQ=YEARLY;BYDAY=-1SU;BYMONTH=10
END:STANDARD
END:VTIMEZONE
BEGIN:VEVENT
LOCATION:
SUMMARY:Bäume von A(horn) bis Z(itterpappel)
DESCRIPTION:Ausgerüstet mit verschiedenen „Forschermaterialien“ durchkreuzen wir den Park nebenan und lernen dort verschiedene Bäume, deren Wichtigkeit sowie stadtökologische Aspekte kennen. Dabei ist das Kennenlernen der häufigsten Baumgattungen das Ziel.&nbsp;Es können Schwerpunkte auf Laub- oder Nadelbäume gesetzt werden. Die Jahreszeiten werden anhand der Bäume besprochen, der Kreislauf des Wachsens anschaulich gemacht. Manche Sammelobjekte eignen sich sogar direkt für Spiele, manche zum Mitnehmen und zur späteren Verwendung in Kunst und Spiel. Wie für die meisten Natur-Spiele braucht man keine Materialien und kann sie überall und jederzeit nachspielen.&nbsp;Die Kinder lernen typische Baumarten in ihrer Umgebung kennen und verstehen Funktion und Nutzen von Bäumen (Sachunterricht/Nawi), erweitern ihren Wortschatz (Sachunterricht/Nawi, Sprache), orientieren sich in der Natur, beobachten jahreszeitliche Veränderungen und bauen eine positive Beziehung zur Natur auf (Sachunterricht/Nawi, Selbstkompetenz). Sie machen Bewegungsspiele (Sport, Gesundheitsförderung), kooperieren in der Gruppe und übernehmen Verantwortung (Sozialkompetenz).
DTSTART;TZID=Europe/Berlin:20260420T080000
DTEND;TZID=Europe/Berlin:20260420T120000
CLASS:PUBLIC
END:VEVENT
END:VCALENDAR
