BEGIN:VCALENDAR
VERSION:2.0
PRODID:https://www.umweltkalender-berlin.de
BEGIN:VTIMEZONE
TZID:Europe/Berlin
X-LIC-LOCATION:Europe/Berlin
BEGIN:DAYLIGHT
TZOFFSETFROM:+0100
TZOFFSETTO:+0200
TZNAME:CEST
DTSTART:19700329T020000
RRULE:FREQ=YEARLY;BYDAY=-1SU;BYMONTH=3
END:DAYLIGHT
BEGIN:STANDARD
TZOFFSETFROM:+0200
TZOFFSETTO:+0100
TZNAME:CET
DTSTART:19701025T030000
RRULE:FREQ=YEARLY;BYDAY=-1SU;BYMONTH=10
END:STANDARD
END:VTIMEZONE
BEGIN:VEVENT
LOCATION:Paul-Junius-Straße 71, 10369 Berlin
SUMMARY:Pilze im Fokus: Von Weisheit zu Innovation
DESCRIPTION:Pilze kann man nicht nur essen, sie sind wahre Wunderwerke, was ihre Einsatzmöglichkeiten angeht. Das Potenzial dieser im Verborgenen lebenden Kreaturen ist in uralten Traditionen überliefert, findet aber auch in der aktuellen Forschung Beachtung. In diesem Kurs erfahren Sie alte Weisheiten, aktuelle Erkenntnisse und neue Einsatzmöglichkeiten für Pilze,  z. B. in den Bereichen:- Antibiotikum, gewonnen durch dem Pinselschimmelpilz "Penicillium notatum"- veganer Lederersatz aus Pilzmycelen- Ziegeln zum Hausbau- Sanierung verseuchter Gewässer oder verseuchter Böden- Konservierung und Veredelung von Nahrungsmitteln- und weitere hochwertige Lösungen, um unseren Aufenthalt auf der Erde&nbsp;ökologischer&nbsp;umzugestalten.Sie erleben, wie man aus Pilz-Fruchtkörpern Pilzpapier herstellt. Anschließend verwenden wir Pilz-Tinte zum Schreiben, wodurch sich nachhaltige, naturverbundene Gestaltungswege praktisch erleben lassen.Es sind hierfür keinerlei Vorkenntnisse erforderlich und Ihre Fragen sind willkommen.Information zur Kursleiterin: Tamara Pilz-Hunter ist Pilzsachverständige BUND, Sprecherin des Arbeitskreis BUND, Pilzberaterin und Seminarleiterin, Mitglied im Pilzverein Pilzkundliche Arbeitsgemeinschaft Berlin-Brandenburg und der Deutschen Gesellschaft für Mykologie.				
DTSTART;TZID=Europe/Berlin:20260522T170000
DTEND;TZID=Europe/Berlin:20260522T200000
CLASS:PUBLIC
END:VEVENT
END:VCALENDAR
