BEGIN:VCALENDAR
VERSION:2.0
PRODID:https://www.umweltkalender-berlin.de
BEGIN:VTIMEZONE
TZID:Europe/Berlin
X-LIC-LOCATION:Europe/Berlin
BEGIN:DAYLIGHT
TZOFFSETFROM:+0100
TZOFFSETTO:+0200
TZNAME:CEST
DTSTART:19700329T020000
RRULE:FREQ=YEARLY;BYDAY=-1SU;BYMONTH=3
END:DAYLIGHT
BEGIN:STANDARD
TZOFFSETFROM:+0200
TZOFFSETTO:+0100
TZNAME:CET
DTSTART:19701025T030000
RRULE:FREQ=YEARLY;BYDAY=-1SU;BYMONTH=10
END:STANDARD
END:VTIMEZONE
BEGIN:VEVENT
LOCATION:Tempelhofer Feld, 12051 Berlin
SUMMARY:Berliner Erdgeschichten mit Bodenständigkeit - Führung für Schulklassen
DESCRIPTION:Unsere zweistündige Führung wird euch durch die spannende Erdgeschichte des Tempelhofer Feldes führen, angefangen von den eiszeitlichen Formationen bis hin zur heutigen Nutzung als öffentlicher Grünraum inmitten der Großstadt.Wir werfen einen Blick auf die anthropogene Geschichte dieses ehemaligen Flughafenstandortes und die Folgen menschlicher Aktivitäten für den Boden. Außerdem diskutieren wir aktuelle Herausforderungen wie Trockenheit, Versiegelung und Altlasten sowie deren Auswirkungen auf den Boden und die ihn umgebende Umwelt.&nbsp;Gewinnt ein tieferes Verständnis für die Bedeutung des oberflächennahen Untergrundes in einer urbanen Umgebung.&nbsp;Zielgruppe:&nbsp; Klasse 7 – 13Rahmenlehrplanbezug:- Geografie: Vielfalt der Erde, Umgang mit Ressourcen, Klimawandel und Klimaschutz, Herausforderungen an die Menschen im 21. Jahrhundert, Die Erde als vernetztes System- Naturwissenschaften: Klima im Wandel, die NaturGesellschaftswissenschaften: Stadt und städtische Vielfalt&nbsp;
DTSTART;TZID=Europe/Berlin:20260518T100000
DTEND;TZID=Europe/Berlin:20260518T120000
CLASS:PUBLIC
END:VEVENT
END:VCALENDAR
