BEGIN:VCALENDAR
VERSION:2.0
PRODID:https://www.umweltkalender-berlin.de
BEGIN:VTIMEZONE
TZID:Europe/Berlin
X-LIC-LOCATION:Europe/Berlin
BEGIN:DAYLIGHT
TZOFFSETFROM:+0100
TZOFFSETTO:+0200
TZNAME:CEST
DTSTART:19700329T020000
RRULE:FREQ=YEARLY;BYDAY=-1SU;BYMONTH=3
END:DAYLIGHT
BEGIN:STANDARD
TZOFFSETFROM:+0200
TZOFFSETTO:+0100
TZNAME:CET
DTSTART:19701025T030000
RRULE:FREQ=YEARLY;BYDAY=-1SU;BYMONTH=10
END:STANDARD
END:VTIMEZONE
BEGIN:VEVENT
LOCATION:Hansastraße 182 A, 13088 Berlin
SUMMARY:Baumzauber in Pankow
DESCRIPTION:Zeig uns Pankows schönste Bäume - eindrucksvoll, kraftvoll, geheimnisvoll oder einfach dein persönlicher Lieblingsplatz unter grünen Kronen. Schnapp dir deine Kamera oder dein Handy. Mach ein eindrucksvolles, kraftvolles oder gemütliches Baum-Foto in Pankow. Sende dein Lieblingsbild an: ubk.pankow@agrar-boerse-ev.deAusstellung der zehn besten Fotos am 30. Mai 2026 im Umweltbüro Pankow. Als Dankeschön gibt es eine kleine Überraschung. Die Koordinierungsstelle Umweltbildung Pankow organisiert den Fotowettbewerb und die Ausstellung.Wir sind gespannt auf eure Bilder!
DTSTART;TZID=Europe/Berlin:

CLASS:PUBLIC
END:VEVENT
END:VCALENDAR
