BEGIN:VCALENDAR
VERSION:2.0
PRODID:https://www.umweltkalender-berlin.de
BEGIN:VTIMEZONE
TZID:Europe/Berlin
X-LIC-LOCATION:Europe/Berlin
BEGIN:DAYLIGHT
TZOFFSETFROM:+0100
TZOFFSETTO:+0200
TZNAME:CEST
DTSTART:19700329T020000
RRULE:FREQ=YEARLY;BYDAY=-1SU;BYMONTH=3
END:DAYLIGHT
BEGIN:STANDARD
TZOFFSETFROM:+0200
TZOFFSETTO:+0100
TZNAME:CET
DTSTART:19701025T030000
RRULE:FREQ=YEARLY;BYDAY=-1SU;BYMONTH=10
END:STANDARD
END:VTIMEZONE
BEGIN:VEVENT
LOCATION:Teufelsseechaussee 22, 14193 Berlin
SUMMARY:Die Jagd nach dem Zauber der Eule – GPS-Erlebnisrallye
DESCRIPTION:Auf einer abenteuerlichen Tour durch den Grunewald lösen wir verschiedene Rätsel und finden verborgene Zauberworte, um den Zauber der Eule zu erneuern, welcher den Grunewald schützt. Eine interaktive Schnitzeljagd mit Spannung und jeder Menge Spaß für Große und Kleine ab 10 Jahren.In Kooperation mit der VHS Neukölln (Kurs-Nr. Nk-Q047b.2) – Anmeldung nur beim Ökowerk.
DTSTART;TZID=Europe/Berlin:20260607T150000
DTEND;TZID=Europe/Berlin:20260607T171500
CLASS:PUBLIC
END:VEVENT
END:VCALENDAR
