BEGIN:VCALENDAR
VERSION:2.0
PRODID:https://www.umweltkalender-berlin.de
BEGIN:VTIMEZONE
TZID:Europe/Berlin
X-LIC-LOCATION:Europe/Berlin
BEGIN:DAYLIGHT
TZOFFSETFROM:+0100
TZOFFSETTO:+0200
TZNAME:CEST
DTSTART:19700329T020000
RRULE:FREQ=YEARLY;BYDAY=-1SU;BYMONTH=3
END:DAYLIGHT
BEGIN:STANDARD
TZOFFSETFROM:+0200
TZOFFSETTO:+0100
TZNAME:CET
DTSTART:19701025T030000
RRULE:FREQ=YEARLY;BYDAY=-1SU;BYMONTH=10
END:STANDARD
END:VTIMEZONE
BEGIN:VEVENT
LOCATION:Teufelsseechaussee 22, 14193 Berlin
SUMMARY:Die Welt der Ameisen
DESCRIPTION:Auf einen Menschen kommen 1,2 Millionen Ameisen – wir begegnen ihnen also ständig. Aufgrund ihrer Größe werden sie jedoch oft übersehen und ihr Leben findet meist im Verborgenen statt. Nach diesem Abenteuertag wirst du die Welt mit anderen Augen sehen und ein Stück dazu beitragen, dass dieses Wissen auch anderen zugänglich wird. In lockerer Atmosphäre wird die Theorie in Storytelling-Art vermittelt und du erfährst, wie diese kleinen Krabbler organisiert sind und z.B. in Teamarbeit gigantische Aufgaben bewältigen können. Staune über ihre Architekturkünste beim Bau von Ameisenhügeln und entdecke, wie sie miteinander kommunizieren.&nbsp;Im Mittelpunkt steht jedoch das eigene Erleben: Gemeinsam tauchen wir draußen in die faszinierende Welt der Ameisen ein. Auf dem Gelände des Ökowerks beobachten wir verschiedene Arten, führen kleine handlungsorientierte Experimente durch und entdecken, was Ameisen alles können. Dabei probierst du selbst aus, stellst Fragen und gehst auf Spurensuche.&nbsp;Das bereits im letzten Jahr entstandene Monitoring dient uns dabei als spannende Grundlage, um Veränderungen zu erkennen und neue Entdeckungen einzuordnen. Gleichzeitig bleibt viel Raum für deine eigenen Ideen und kreative Zugänge zur Welt der Ameisen. Worauf wartest du also noch? Melde dich an und sei dabei!Dozentin: Bianca Drenske ist Ameisenexpertin. Ihre Expertise und ihr Engagement wird sichtbar unter AntsNature-Faszination Ameisen (antsnature.de).
DTSTART;TZID=Europe/Berlin:20260831T093000
DTEND;TZID=Europe/Berlin:20260831T163000
CLASS:PUBLIC
END:VEVENT
END:VCALENDAR
