BEGIN:VCALENDAR
VERSION:2.0
PRODID:https://www.umweltkalender-berlin.de
BEGIN:VTIMEZONE
TZID:Europe/Berlin
X-LIC-LOCATION:Europe/Berlin
BEGIN:DAYLIGHT
TZOFFSETFROM:+0100
TZOFFSETTO:+0200
TZNAME:CEST
DTSTART:19700329T020000
RRULE:FREQ=YEARLY;BYDAY=-1SU;BYMONTH=3
END:DAYLIGHT
BEGIN:STANDARD
TZOFFSETFROM:+0200
TZOFFSETTO:+0100
TZNAME:CET
DTSTART:19701025T030000
RRULE:FREQ=YEARLY;BYDAY=-1SU;BYMONTH=10
END:STANDARD
END:VTIMEZONE
BEGIN:VEVENT
LOCATION:Wollankstr. 4, 13187 Berlin
SUMMARY:Tag der offenen Tür beim NABU Berlin
DESCRIPTION:18:00 Uhr - Vorstellung der Wildtierberatung. Claudia Harnisch18:30 Uhr - „Tipps für einen insektenfreundlichen Balkon und Garten“. Janna Einöder (NABU, Pressereferentin, Referentin für Stadtgrün)19:00 Uhr - „Vorstellung der BG-Lichtenberg“. Henrik Schwarz19:30 Uhr - Vorstellung des NABU Landesverband Berlin durch Dr. Melanie von Orlow (Geschäftsführerin NABU LV Berlin) und Rainer Altenkamp (1. Vorstandsvorsitzende NABU LV Berlin)20:00 Uhr - „Ehemalige Rieselfelder in Deutsch Wusterhausen“. Thomas Ziska (FG-Entomologie)20:30 Uhr - Vorstellung Hymenopterendienst. Dr. Melanie von Orlow, Dr. Stephan Härtel (Fachreferent)21:00 Uhr - Vorstellung der Wildvogelstation. Marc Engler (Stationsleitung WVS)21:30 Uhr - „Wenn die Nacht verblasst - Die Folgen von Lichtverschmutzung für die Tierwelt“. Julia Lorenz (Projektleiterin „Artenschutz am Gebäude“), Helen Friedlein (Fachreferentin „Artenschutz am Gebäude“)22:00 Uhr - Schlusswort. Dr. Melanie von Orlowzusätzlich Kinderprogramm
DTSTART;TZID=Europe/Berlin:20260312T160000
DTEND;TZID=Europe/Berlin:20260312T220000
CLASS:PUBLIC
END:VEVENT
END:VCALENDAR
