BEGIN:VCALENDAR
VERSION:2.0
PRODID:https://www.umweltkalender-berlin.de
BEGIN:VTIMEZONE
TZID:Europe/Berlin
X-LIC-LOCATION:Europe/Berlin
BEGIN:DAYLIGHT
TZOFFSETFROM:+0100
TZOFFSETTO:+0200
TZNAME:CEST
DTSTART:19700329T020000
RRULE:FREQ=YEARLY;BYDAY=-1SU;BYMONTH=3
END:DAYLIGHT
BEGIN:STANDARD
TZOFFSETFROM:+0200
TZOFFSETTO:+0100
TZNAME:CET
DTSTART:19701025T030000
RRULE:FREQ=YEARLY;BYDAY=-1SU;BYMONTH=10
END:STANDARD
END:VTIMEZONE
BEGIN:VEVENT
LOCATION:
SUMMARY:Honigbienen und ihre wilden Schwestern 
DESCRIPTION:Wer trägt meistens gestreift und hat oft gelbe Hosen an? Wer bringt die Bäume und Pflanzen dazu, Früchte zu tragen? Und wer produziert eigentlich den Honig auf unserem Brötchen? Die Antwort auf all diese Fragen lautet: Es ist die Biene. Doch Biene ist nicht gleich Biene.&nbsp;Spielerisch lernen die Kinder den Unterschied zwischen Honig- und Wildbienen kennen und tauchen ein in die spannende Welt der Summinsekten. Durch Bewegungsspiele und kleine Aufgaben erfahren die Kinder mehr über ihre Lebensweisen. So fällt es den Kindern leicht Ideen zu sammeln, was wir alle zum Schutz dieser faszinierenden Tiere tun können.
DTSTART;TZID=Europe/Berlin:20260821T080000
DTEND;TZID=Europe/Berlin:20260821T120000
CLASS:PUBLIC
END:VEVENT
END:VCALENDAR
