BEGIN:VCALENDAR
VERSION:2.0
PRODID:https://www.umweltkalender-berlin.de
BEGIN:VTIMEZONE
TZID:Europe/Berlin
X-LIC-LOCATION:Europe/Berlin
BEGIN:DAYLIGHT
TZOFFSETFROM:+0100
TZOFFSETTO:+0200
TZNAME:CEST
DTSTART:19700329T020000
RRULE:FREQ=YEARLY;BYDAY=-1SU;BYMONTH=3
END:DAYLIGHT
BEGIN:STANDARD
TZOFFSETFROM:+0200
TZOFFSETTO:+0100
TZNAME:CET
DTSTART:19701025T030000
RRULE:FREQ=YEARLY;BYDAY=-1SU;BYMONTH=10
END:STANDARD
END:VTIMEZONE
BEGIN:VEVENT
LOCATION:
SUMMARY:Klimakumpel Baum
DESCRIPTION:Berlin hat viele grüne Lungen. In dieser Nemo-Veranstaltung erfahren die Schüler*innen spielerisch die Bedeutung der Bäume für das Stadtklima. Nachdem sie eine Beziehung zu den Bäumen aufgebaut haben, werden die Funktionen von Bäumen für die Menschen, wie beispielsweise die Sauerstoffproduktion, in Aktionen und Spielen zur Fotosynthese erlebbar gemacht.&nbsp;Mit eigenen Beobachtungen und anhand von Messungen entdecken die Kinder das Mikroklima im Park nebenan. Am Ende wollen wir auch darauf schauen, wie wir die Bäume in unserer Stadt und damit das Klima besser schützen können.&nbsp;Die Kinder lernen Funktionen und Nutzen von Bäumen in der Stadt kennen (Nawi), erkennen Zusammenhänge in der Natur (Nawi), führen Messungen durch und werten sie aus (Nawi, Methodenkompetenz), bauen eine positive Beziehung zu Bäumen auf und reflektieren ihr eigenes Konsumverhalten (Selbstkompetenz). 
DTSTART;TZID=Europe/Berlin:20260429T080000
DTEND;TZID=Europe/Berlin:20260429T120000
CLASS:PUBLIC
END:VEVENT
END:VCALENDAR
