BEGIN:VCALENDAR
VERSION:2.0
PRODID:https://www.umweltkalender-berlin.de
BEGIN:VTIMEZONE
TZID:Europe/Berlin
X-LIC-LOCATION:Europe/Berlin
BEGIN:DAYLIGHT
TZOFFSETFROM:+0100
TZOFFSETTO:+0200
TZNAME:CEST
DTSTART:19700329T020000
RRULE:FREQ=YEARLY;BYDAY=-1SU;BYMONTH=3
END:DAYLIGHT
BEGIN:STANDARD
TZOFFSETFROM:+0200
TZOFFSETTO:+0100
TZNAME:CET
DTSTART:19701025T030000
RRULE:FREQ=YEARLY;BYDAY=-1SU;BYMONTH=10
END:STANDARD
END:VTIMEZONE
BEGIN:VEVENT
LOCATION:Groß Glienicker See, 14089 Berlin
SUMMARY:Groß Glienicker See
DESCRIPTION:Der See befindet sich im Südwesten Berlins. In der Seemitte verläuft die Grenze zwischen Berlin und Brandenburg. Die naturnahe Ufervegetation wird überwiegend von Röhricht, alten Weiden und Erlen geprägt. Ufer und Wasserfläche bieten Lebensraum für zahlreiche Wasservögel, Fische, Insekten und andere Wildtiere.Der Groß Glienicker See zählt zu den klarsten Seen Berlins. Er wird aus Grundwasser gespeist und ist an der tiefsten Stelle 11,25 Meter tief. Zum Teil befinden sich der See und die Uferzonen im Landschaftsschutzgebiet Gatow, Kladow und Groß Glienicke.&nbsp;Am Seeufer auf der Berliner Seite finden Besucher mehrere Liegewiesen, Beachvolleyballfelder, Spielplätze und Bootsverleihe.Eine Umrundung des Sees zu Fuß ist möglich. In Teilbereichen verläuft der Weg jedoch nicht direkt am Ufer, sondern führt durch Wohngebiete.
DTSTART;TZID=Europe/Berlin:

CLASS:PUBLIC
END:VEVENT
END:VCALENDAR
