BEGIN:VCALENDAR
VERSION:2.0
PRODID:https://www.umweltkalender-berlin.de
BEGIN:VTIMEZONE
TZID:Europe/Berlin
X-LIC-LOCATION:Europe/Berlin
BEGIN:DAYLIGHT
TZOFFSETFROM:+0100
TZOFFSETTO:+0200
TZNAME:CEST
DTSTART:19700329T020000
RRULE:FREQ=YEARLY;BYDAY=-1SU;BYMONTH=3
END:DAYLIGHT
BEGIN:STANDARD
TZOFFSETFROM:+0200
TZOFFSETTO:+0100
TZNAME:CET
DTSTART:19701025T030000
RRULE:FREQ=YEARLY;BYDAY=-1SU;BYMONTH=10
END:STANDARD
END:VTIMEZONE
BEGIN:VEVENT
LOCATION:Straße zum FEZ 2, 12459 Berlin
SUMMARY:Erlebnisrundgang GREEN PLANET BERLIN
DESCRIPTION:In den sechs Mitmachstationen und Themenräumen von GREEN PLANET BERLIN dreht sich alles um das Klima in unserer Stadt und alles was dazugehört: Mobilität, Ernährung, Bauen der Zukunft, Wasser in der Stadt oder Energie. Bei begleiteten Erlebnisrundgängen erkunden Schulklassen die sinnlich aufbereiteten Erlebnisräume, Medienstationen und Exponate der Ausstellung. Der interaktive Parcours eröffnet Raum, um eigenes Wissen einzubringen und neue Perspektiven zu gewinnen. Die Kinder und Jugendlichen erleben, dass ihr Handeln zählt, sie selbst aktiv werden können und dass Veränderung direkt in ihrer Stadt beginnt.
DTSTART;TZID=Europe/Berlin:

CLASS:PUBLIC
END:VEVENT
END:VCALENDAR
