BEGIN:VCALENDAR
VERSION:2.0
PRODID:https://www.umweltkalender-berlin.de
BEGIN:VTIMEZONE
TZID:Europe/Berlin
X-LIC-LOCATION:Europe/Berlin
BEGIN:DAYLIGHT
TZOFFSETFROM:+0100
TZOFFSETTO:+0200
TZNAME:CEST
DTSTART:19700329T020000
RRULE:FREQ=YEARLY;BYDAY=-1SU;BYMONTH=3
END:DAYLIGHT
BEGIN:STANDARD
TZOFFSETFROM:+0200
TZOFFSETTO:+0100
TZNAME:CET
DTSTART:19701025T030000
RRULE:FREQ=YEARLY;BYDAY=-1SU;BYMONTH=10
END:STANDARD
END:VTIMEZONE
BEGIN:VEVENT
LOCATION:
SUMMARY:Tierisch gute Parkrallye
DESCRIPTION:Wilde Tiere in der Stadt- wir schenken ihnen nur wenig Beachtung und doch wohnen sie ganz nah bei uns! Auf einer spannenden und lustigen Tour in den Ferien lernen wir unsere tierischen Nachbarn an verschiedenen Stationen mit Lauf-, Geschicklichkeits- und Wahrnehmungsspielen kennen. Zum Abschluss nehmen wir auch die kleinsten für uns sichtbaren Mitbewohner genauer unter die Lupe.&nbsp;
DTSTART;TZID=Europe/Berlin:20260409T080000
DTEND;TZID=Europe/Berlin:20260409T120000
CLASS:PUBLIC
END:VEVENT
END:VCALENDAR
