BEGIN:VCALENDAR
VERSION:2.0
PRODID:https://www.umweltkalender-berlin.de
BEGIN:VTIMEZONE
TZID:Europe/Berlin
X-LIC-LOCATION:Europe/Berlin
BEGIN:DAYLIGHT
TZOFFSETFROM:+0100
TZOFFSETTO:+0200
TZNAME:CEST
DTSTART:19700329T020000
RRULE:FREQ=YEARLY;BYDAY=-1SU;BYMONTH=3
END:DAYLIGHT
BEGIN:STANDARD
TZOFFSETFROM:+0200
TZOFFSETTO:+0100
TZNAME:CET
DTSTART:19701025T030000
RRULE:FREQ=YEARLY;BYDAY=-1SU;BYMONTH=10
END:STANDARD
END:VTIMEZONE
BEGIN:VEVENT
LOCATION:Kiehnwerderallee 1-3, 12437 Berlin
SUMMARY:Gewässerökologische Führung
DESCRIPTION:Der Spreepark bietet mit seinen diversen Kleingewässern und dem namensgebenden Fluss vielen Tier- und Pflanzenarten einen Lebensraum. Die Unterschiede zwischen den Ökosystemen von Still- und Fließgewässern werden hier besonders deutlich sichtbar.Bei dieser Führung möchten wir diese abwechslungsreichen Gewässer im und um den Spreepark gemeinsam erkunden. Zunächst werfen wir einen Blick auf die Spree und lernen spannendes über Flüsse. Anschließend widmen wir uns einem der kleinen Stillgewässer im Park. Die entnommenen Wasserproben schauen wir uns dann unter der Vergrößerung an und entdecken dabei, wie viel Leben in einem einzigen Wassertropfen steckt. Durch die Bestimmung dieser Organismen können wir zudem Rückschlüsse auf den ökologischen Zustand der jeweiligen Gewässer ziehen.Nicht zuletzt möchten wir aufzeigen, warum der Schutz unserer Gewässer so wichtig ist und wie jede*r von uns dazu beitragen kann, diese wertvollen Lebensräume zu erhalten.
DTSTART;TZID=Europe/Berlin:20260504T180000
DTEND;TZID=Europe/Berlin:20260504T200000
CLASS:PUBLIC
END:VEVENT
END:VCALENDAR
