BEGIN:VCALENDAR
VERSION:2.0
PRODID:https://www.umweltkalender-berlin.de
BEGIN:VTIMEZONE
TZID:Europe/Berlin
X-LIC-LOCATION:Europe/Berlin
BEGIN:DAYLIGHT
TZOFFSETFROM:+0100
TZOFFSETTO:+0200
TZNAME:CEST
DTSTART:19700329T020000
RRULE:FREQ=YEARLY;BYDAY=-1SU;BYMONTH=3
END:DAYLIGHT
BEGIN:STANDARD
TZOFFSETFROM:+0200
TZOFFSETTO:+0100
TZNAME:CET
DTSTART:19701025T030000
RRULE:FREQ=YEARLY;BYDAY=-1SU;BYMONTH=10
END:STANDARD
END:VTIMEZONE
BEGIN:VEVENT
LOCATION:
SUMMARY:Na Klima! Natürlichen Klimaschutz verstehen und vermitteln
DESCRIPTION:Das Unabhängige Institut für Umweltfragen e.V. (UfU) und das Institut für Zukunftsstudien und Technologiebewertung (IZT) laden Pädagog*innen aus dem Elementar-, Primar-, Sekundar- und außerschulischen Bereich zur modularen Online-Weiterbildung „Na Klima! – Natürlichen Klimaschutz verstehen und vermitteln“ ein.Die Weiterbildung bietet fundiertes Grundlagenwissen rund um den Natürlichen Klimaschutz und vermittelt praxisnahe Kompetenzen, um die Bedeutung von Ökosystemen wie Wäldern, Mooren, Meeren und Auen im Klimaschutz anschaulich und zielgruppengerecht an Kinder und Jugendliche zu vermitteln. Teilnehmende können sich auf spannende Impulse, Austauschmöglichkeiten mit Kolleg*innen, digitale und analoge BNE-Bildungsmaterialien sowie die Möglichkeit zur Erarbeitung einer eigenen Bildungseinheit freuen.Die Weiterbildung wird im Auftrag des Bundesministeriums für Umwelt, Naturschutz, nukleare Sicherheit und Verbraucherschutz (BMUV) und des Bundesamtes für Naturschutz (BfN) im Rahmen des Aktionsprogramms Natürlicher Klimaschutz (ANK) mit Mitteln des BMUV gefördert.Neugierig geworden? Auf www.naklima.de können Interessierte flexibel und kostenlos Termine buchen - als Halbtagsveranstaltung oder in drei Modulen in zweiwöchigem Abstand.
DTSTART;TZID=Europe/Berlin:20260313

CLASS:PUBLIC
END:VEVENT
END:VCALENDAR
