BEGIN:VCALENDAR
VERSION:2.0
PRODID:https://www.umweltkalender-berlin.de
BEGIN:VTIMEZONE
TZID:Europe/Berlin
X-LIC-LOCATION:Europe/Berlin
BEGIN:DAYLIGHT
TZOFFSETFROM:+0100
TZOFFSETTO:+0200
TZNAME:CEST
DTSTART:19700329T020000
RRULE:FREQ=YEARLY;BYDAY=-1SU;BYMONTH=3
END:DAYLIGHT
BEGIN:STANDARD
TZOFFSETFROM:+0200
TZOFFSETTO:+0100
TZNAME:CET
DTSTART:19701025T030000
RRULE:FREQ=YEARLY;BYDAY=-1SU;BYMONTH=10
END:STANDARD
END:VTIMEZONE
BEGIN:VEVENT
LOCATION:
SUMMARY:Tierische Überwinterungsstrategien 
DESCRIPTION:Wenn uns Menschen kalt ist, ziehen wir einen dicken Pullover an oder machen es uns in der warmen Wohnung gemütlich. Für die Tiere im Park ist das nicht möglich.&nbsp;Sie haben andere Strategien, um den Winter zu überstehen.&nbsp;Wie Eichhörnchen, Kröte, Igel, Wildschwein, Schmetterling, Blaumeise und andere Tiere den Herbst nutzen, um sich auf den Winter vorzubereiten, erfahren die Kinder in Gesprächen, kleinen Aufgaben und lustigen Bewegungsspielen. Am Ende können die Kinder zwischen Winterruhe, Winterschlaf, Winterstarre und winteraktiven Tieren unterscheiden, kennen die verschiedenen Lebensräume der Tiere und erfahren, welche Unterstützung möglich und sinnvoll ist. Die Kinder lernen verschiedene Tierarten, ihre Anpassung an den Lebensraum und ihre Überwinterungsstrategien kennen (Sachunterricht/Nawi), versetzen sich in die Lebensweise der Tiere (Sachunterricht/Nawi, Sozialkompetenz), bewegen sich in der Natur (Selbstkompetenz, Sport) und kooperieren in der Gruppe (Sozialkompetenz).
DTSTART;TZID=Europe/Berlin:20261216T080000
DTEND;TZID=Europe/Berlin:20261216T120000
CLASS:PUBLIC
END:VEVENT
END:VCALENDAR
