BEGIN:VCALENDAR
VERSION:2.0
PRODID:https://www.umweltkalender-berlin.de
BEGIN:VTIMEZONE
TZID:Europe/Berlin
X-LIC-LOCATION:Europe/Berlin
BEGIN:DAYLIGHT
TZOFFSETFROM:+0100
TZOFFSETTO:+0200
TZNAME:CEST
DTSTART:19700329T020000
RRULE:FREQ=YEARLY;BYDAY=-1SU;BYMONTH=3
END:DAYLIGHT
BEGIN:STANDARD
TZOFFSETFROM:+0200
TZOFFSETTO:+0100
TZNAME:CET
DTSTART:19701025T030000
RRULE:FREQ=YEARLY;BYDAY=-1SU;BYMONTH=10
END:STANDARD
END:VTIMEZONE
BEGIN:VEVENT
LOCATION:
SUMMARY:Baum &amp; Klima in der Gartenarbeitsschule Tempelhof-Schöneberg
DESCRIPTION:				Welche Rolle spielt ein Baum für das große Klimasystem unserer Erde? In einer bewegten Mischung aus Koordinationsspielen, Teamspielen und kognitiveren Forschungsaufgaben beschäftigen wir uns mit dem Treibhauseffekt, der Photosynthese, dem Mikroklima und dem Baum als Lebensraum. Warum die Bäume für uns überlebenswichtig sind, wird uns dabei immer klarer! Die komplexen Zusammenhänge sind altersgemäß vereinfacht und in ihren Grundfunktionen verständlich aufbereitet. Mit älteren Schüler*innen messen wir mit einfacher Messtechnik das Mikroklima.Die Kinder lernen grundlegende Funktionen von Bäumen kennen (Sachunterricht/Nawi), sie erlernen spielerisch die Photosynthese und den Kohlenstoffkreislauf (Sachunterricht/Nawi), sie lernen das Klimasystem und den Treibhauseffekt kennen (Nawi/Sachunterricht),erweitern dabei ihren Wortschatz (Sprache), machen Bewegungsspiele (Gesundheitsförderung), reflektieren ihre persönliche Abhängigkeit von den Bäumen und arbeiten im Team (Sozialkompetenz). Die inhaltliche Tiefe und Komplexität wird der jeweiligen Altersstufe angepasst.
DTSTART;TZID=Europe/Berlin:20260626T080000
DTEND;TZID=Europe/Berlin:20260626T120000
CLASS:PUBLIC
END:VEVENT
END:VCALENDAR
