BEGIN:VCALENDAR
VERSION:2.0
PRODID:https://www.umweltkalender-berlin.de
BEGIN:VTIMEZONE
TZID:Europe/Berlin
X-LIC-LOCATION:Europe/Berlin
BEGIN:DAYLIGHT
TZOFFSETFROM:+0100
TZOFFSETTO:+0200
TZNAME:CEST
DTSTART:19700329T020000
RRULE:FREQ=YEARLY;BYDAY=-1SU;BYMONTH=3
END:DAYLIGHT
BEGIN:STANDARD
TZOFFSETFROM:+0200
TZOFFSETTO:+0100
TZNAME:CET
DTSTART:19701025T030000
RRULE:FREQ=YEARLY;BYDAY=-1SU;BYMONTH=10
END:STANDARD
END:VTIMEZONE
BEGIN:VEVENT
LOCATION:
SUMMARY:Wilde Tiere in der Gartenarbeitsschule Treptow-Köpenick
DESCRIPTION:Wir begeben uns heute auf eine Entdeckungstour durch die grüne Oase der Gartenarbeitsschule Treptow-Köpenick und ihre besondere Artenvielfalt. Welchen der&nbsp;über 200 in Berlin wildlebenden Säugetier- und Vogelarten bietet sie eine Heimat? Und wo leben die Tiere genau?&nbsp;Danach wollen wir heute gemeinsam Ausschau halten und uns mit offenen Augen und Ohren auf eine spannende Spurensuche begeben. Auf spielerische Weise lernen wir unsere tierischen Mitbewohnen kennen und schätzen.Die Kinder suchen Tierspuren und beobachten und erforschen verschiedene Tierarten und ihre Anpassung an den Lebensraum (Sachunterricht/Nawi). Sie erweitern ihren Wortschatz über Tiere (Sachunterricht/Nawi, Sprache), bewegen sich in der Natur (Sport, Gesundheitsförderung), entwickeln Empathie und übernehmen Verantwortung (Selbstkompetenz).Weitere meiner Nemo- Veranstaltungen (Landart/ Tiere/ Bäume/ Schmetterlinge/ Wetter/ Klimaschutz/ Mathe/ Deutsch) können auf Anfrage ebenfalls in der Gartenarbeitsschule durchgeführt werden.Der Treffpunkt für die Veranstaltung ist die Gartenarbeitsschule Treptow-Köpenick.&nbsp;
DTSTART;TZID=Europe/Berlin:20260624T080000
DTEND;TZID=Europe/Berlin:20260624T120000
CLASS:PUBLIC
END:VEVENT
END:VCALENDAR
