BEGIN:VCALENDAR
VERSION:2.0
PRODID:https://www.umweltkalender-berlin.de
BEGIN:VTIMEZONE
TZID:Europe/Berlin
X-LIC-LOCATION:Europe/Berlin
BEGIN:DAYLIGHT
TZOFFSETFROM:+0100
TZOFFSETTO:+0200
TZNAME:CEST
DTSTART:19700329T020000
RRULE:FREQ=YEARLY;BYDAY=-1SU;BYMONTH=3
END:DAYLIGHT
BEGIN:STANDARD
TZOFFSETFROM:+0200
TZOFFSETTO:+0100
TZNAME:CET
DTSTART:19701025T030000
RRULE:FREQ=YEARLY;BYDAY=-1SU;BYMONTH=10
END:STANDARD
END:VTIMEZONE
BEGIN:VEVENT
LOCATION:
SUMMARY:Welt voller Müll
DESCRIPTION:				Wir alle verursachen ihn Tag für Tag und dabei bringt er einige Probleme mit sich: Müll. In der Natur hat er Folgen für Tiere und ganze Lebensräume und damit wiederum auch für uns Menschen. Was ist das überhaupt für Müll? Wo kommt er her, woraus besteht er? Und vor allem: wie könnten wir besser mit Müll umgehen?&nbsp;Wir werden selber zu Naturschützer*innen und sammeln den Müll im Park. Ganz praktisch verbinden wir das. Wir üben spielerisch und bewegungsreich, den Müll richtig zu trennen, damit dieser im Stoffkreislauf bleibt. Oder besser noch: wir schauen, wie wir dafür sorgen können, dass zumindest ein Teil des Mülls gar nicht erst entsteht.Die Kinder lernen die Natur in ihrer Umgebung schätzen und pflegen(Sachunterricht/Nawi), erfahren Materialeigenschaften und Stoffkreisläufe (Sachunterricht/Nawi), reflektieren Ressourcenverbrauch und Konsumverhalten (Selbstkompetenz, Gesellschaftswissenschaften), argumentieren und finden in Konfliktsituationen nachhaltige Lösungen (Sprache, Methodenkompetenz).
DTSTART;TZID=Europe/Berlin:20250321T080000
DTEND;TZID=Europe/Berlin:20250321T120000
CLASS:PUBLIC
END:VEVENT
END:VCALENDAR
