BEGIN:VCALENDAR
VERSION:2.0
PRODID:https://www.umweltkalender-berlin.de
BEGIN:VTIMEZONE
TZID:Europe/Berlin
X-LIC-LOCATION:Europe/Berlin
BEGIN:DAYLIGHT
TZOFFSETFROM:+0100
TZOFFSETTO:+0200
TZNAME:CEST
DTSTART:19700329T020000
RRULE:FREQ=YEARLY;BYDAY=-1SU;BYMONTH=3
END:DAYLIGHT
BEGIN:STANDARD
TZOFFSETFROM:+0200
TZOFFSETTO:+0100
TZNAME:CET
DTSTART:19701025T030000
RRULE:FREQ=YEARLY;BYDAY=-1SU;BYMONTH=10
END:STANDARD
END:VTIMEZONE
BEGIN:VEVENT
LOCATION:
SUMMARY:Wildnis-Detektiv*innen mit allen Sinnen im Schul-Umwelt-Zentrum Mitte
DESCRIPTION:Wir gehen auf&nbsp;sinnliche&nbsp;Naturerlebnis-Reise&nbsp;durch die Stadtnatur im Schul-Umwelt-Zentrum Mitte. Dabei entdecken wir mit Action und Achtsamkeit wahre Natur-Schätze. Wir nehmen uns die Zeit, sie mit allen Sinnen zu erfahren und so wertvolles Wissen zu sammeln.&nbsp;Damit werden wir dann gemeinsam&nbsp;aktiv und&nbsp;kreativ.&nbsp;Dadurch&nbsp;stärkt Ihr neben Eurer Gesundheit durch&nbsp;viel Spaß und&nbsp;Bewegung an der frischen Luft zu jeder Jahreszeit auch&nbsp;Eure Selbstkompetenz,&nbsp;das Gemeinschaftsgefühl und Eure Achtsamkeit. So geht Ihr mit einem kostbaren Erfahrungsschatz und einem selbst gemachten Wildkräuter-Salz nach Hause.Die Kinder lernen die Stadtnatur&nbsp;im Schul-Umweltzentrum Mitte&nbsp;zur jeweiligen Jahreszeit kennen (Sachkunde), entdecken Naturmaterialien mit allen Sinnen (Sachkunde, Selbstkompetenz), bewegen sich in der Natur (Sport, Gesundheitsförderung), kooperieren in der Gruppe und tauschen ihre Erfahrungen&nbsp;und Gefühle&nbsp;aus (Sprache, Sozialkompetenz, Selbstkompetenz, BNE).&nbsp;Beim Lauschen eines Pflanzen-Märchens vertiefen sie das Gelernte und verankern es in ihren Herzen.Treffpunkt ist vor Ort, an einem der Standorte des Schul-Umwelt-Zentrums Mitte.
DTSTART;TZID=Europe/Berlin:20260416T080000
DTEND;TZID=Europe/Berlin:20260416T120000
CLASS:PUBLIC
END:VEVENT
END:VCALENDAR
