BEGIN:VCALENDAR
VERSION:2.0
PRODID:https://www.umweltkalender-berlin.de
BEGIN:VTIMEZONE
TZID:Europe/Berlin
X-LIC-LOCATION:Europe/Berlin
BEGIN:DAYLIGHT
TZOFFSETFROM:+0100
TZOFFSETTO:+0200
TZNAME:CEST
DTSTART:19700329T020000
RRULE:FREQ=YEARLY;BYDAY=-1SU;BYMONTH=3
END:DAYLIGHT
BEGIN:STANDARD
TZOFFSETFROM:+0200
TZOFFSETTO:+0100
TZNAME:CET
DTSTART:19701025T030000
RRULE:FREQ=YEARLY;BYDAY=-1SU;BYMONTH=10
END:STANDARD
END:VTIMEZONE
BEGIN:VEVENT
LOCATION:
SUMMARY:Wilde Stadttiere
DESCRIPTION:Wilde Tiere leben nur im Wald? Denkste! Wer hätte gedacht, dass die Großstadt Berlin über 200 wildlebenden Säugetier- und Vogelarten eine Heimat bietet? Doch wo leben die Tiere genau?Danach wollen wir heute gemeinsam Ausschau halten und uns mit offenen Augen und Ohren auf eine spannende Spurensuche begeben. Auf spielerische Weise lernen wir unsere tierischen Mitbewohnen kennen und schätzen.Die Kinder suchen Tierspuren und beobachten und erforschen verschiedene Tierarten und ihre Anpassung an den Lebensraum (Sachunterricht/Nawi). Sie erweitern ihren Wortschatz über Tiere (Sachunterricht/Nawi, Sprache), bewegen sich in der Natur (Sport, Gesundheitsförderung), entwickeln Empathie und übernehmen Verantwortung (Selbstkompetenz).
DTSTART;TZID=Europe/Berlin:20251112T080000
DTEND;TZID=Europe/Berlin:20251112T120000
CLASS:PUBLIC
END:VEVENT
END:VCALENDAR
