BEGIN:VCALENDAR
VERSION:2.0
PRODID:https://www.umweltkalender-berlin.de
BEGIN:VTIMEZONE
TZID:Europe/Berlin
X-LIC-LOCATION:Europe/Berlin
BEGIN:DAYLIGHT
TZOFFSETFROM:+0100
TZOFFSETTO:+0200
TZNAME:CEST
DTSTART:19700329T020000
RRULE:FREQ=YEARLY;BYDAY=-1SU;BYMONTH=3
END:DAYLIGHT
BEGIN:STANDARD
TZOFFSETFROM:+0200
TZOFFSETTO:+0100
TZNAME:CET
DTSTART:19701025T030000
RRULE:FREQ=YEARLY;BYDAY=-1SU;BYMONTH=10
END:STANDARD
END:VTIMEZONE
BEGIN:VEVENT
LOCATION:Teufelsseechaussee 22, 14193 Berlin
SUMMARY:Auf, auf zum großen Artenfinden! - City Nature Challenge 2026
DESCRIPTION:Ausgestattet mit Apps und Büchern, Lupen, Ferngläsern und Fledermaus-Detektoren erforschen wir die Natur rund ums Ökowerk. Wir entdecken Bäume und Sträucher, Kräuter und Wildblumen, Schmetterlinge und Käfer, Ameisen und Moose. Und welcher Vogel kreist da eigentlich über uns am Himmel?Alles was wir finden melden wir über die App iNaturalist. So nehmen wir an der City Nature Challenge 2026 teil. Bei diesem jährlichen, freundschaftlichen Wettbewerb treten über 500 Städte weltweit gegeneinander an. Wer findet die meisten Arten? Wir treten für Berlin an und führen gleichzeitig eine eigene Artenliste: Was werden wir alles entdecken?&nbsp;&nbsp;Bitte mitbringen: Lupe, Fernglas, Bestimmungsbuch – sofern vorhanden. Wettergerechte Kleidung und Picknick nach Bedarf.Fragen zur Veranstaltung beantworten wir gerne unter 030 3000050.
DTSTART;TZID=Europe/Berlin:20260426T150000
DTEND;TZID=Europe/Berlin:20260426T180000
CLASS:PUBLIC
END:VEVENT
END:VCALENDAR
