BEGIN:VCALENDAR
VERSION:2.0
PRODID:https://www.umweltkalender-berlin.de
BEGIN:VTIMEZONE
TZID:Europe/Berlin
X-LIC-LOCATION:Europe/Berlin
BEGIN:DAYLIGHT
TZOFFSETFROM:+0100
TZOFFSETTO:+0200
TZNAME:CEST
DTSTART:19700329T020000
RRULE:FREQ=YEARLY;BYDAY=-1SU;BYMONTH=3
END:DAYLIGHT
BEGIN:STANDARD
TZOFFSETFROM:+0200
TZOFFSETTO:+0100
TZNAME:CET
DTSTART:19701025T030000
RRULE:FREQ=YEARLY;BYDAY=-1SU;BYMONTH=10
END:STANDARD
END:VTIMEZONE
BEGIN:VEVENT
LOCATION:Zossener Straße 24, 10961 Berlin
SUMMARY:Wovon träumt die Ameise? Sommerferien-Schreibwerkstatt
DESCRIPTION:Blätter rauschen im Wind, eine Ameise trägt einen Brotkrümel davon, im Gras versteckt liegt ein Spielzeugauto, welche Abenteuer haben sie erlebt? In diesem Workshop für Groß &amp; Klein nähern wir uns schreibend und erzählend der Berliner Stadtnatur. Gemeinsam mit der Autorin und Literaturvermittlerin Nora Deetje Leggemann machen wir einen Ausflug zu Grünflächen im Kiez, sammeln dort Ideen und schreiben eigene Texte aller Art.
DTSTART;TZID=Europe/Berlin:20260709T140000
DTEND;TZID=Europe/Berlin:20260709T180000
CLASS:PUBLIC
END:VEVENT
END:VCALENDAR
