BEGIN:VCALENDAR
VERSION:2.0
PRODID:https://www.umweltkalender-berlin.de
BEGIN:VTIMEZONE
TZID:Europe/Berlin
X-LIC-LOCATION:Europe/Berlin
BEGIN:DAYLIGHT
TZOFFSETFROM:+0100
TZOFFSETTO:+0200
TZNAME:CEST
DTSTART:19700329T020000
RRULE:FREQ=YEARLY;BYDAY=-1SU;BYMONTH=3
END:DAYLIGHT
BEGIN:STANDARD
TZOFFSETFROM:+0200
TZOFFSETTO:+0100
TZNAME:CET
DTSTART:19701025T030000
RRULE:FREQ=YEARLY;BYDAY=-1SU;BYMONTH=10
END:STANDARD
END:VTIMEZONE
BEGIN:VEVENT
LOCATION:Zossener Straße 24, 10961 Berlin
SUMMARY:Was reden die Tiere, was faselt das Gras?
DESCRIPTION:In diesem Sommerferienkurs für Kinder von 7–10 Jahren beschäftigen wir uns mit Sprache und Natur.Welche Geheimnisse kann Kurt, das Kaninchen uns verraten? Was hat der alte Busch im Park alles zu erzählen? Und wie klingt es wohl, wenn die Zwei anfangen zu sprechen? Wir spielen mit Wörtern und erfinden Geschichten.Die Basis für unsere kreativen Sprachexperimente und improvisierten Geschichten bilden Naturerfahrungen mit allen Sinnen. Wir üben, wie wir uns als Tier durch Landschaften bewegen, schauen wie Bienen und lauschen nach draußen. Dann nutzen wir Methoden des mündlichen Erzählens und Naturmaterialien, um unsere Geschichten zu erfinden und spielen mit dem Klang der Sprache.Das Angebot möchte spielerisch und mit wenig Schrift (Laut-)Poesie, Nature-Writing und Erzählkunst vermitteln.
DTSTART;TZID=Europe/Berlin:20230717T100000
DTEND;TZID=Europe/Berlin:20230717T140000
CLASS:PUBLIC
END:VEVENT
END:VCALENDAR
