BEGIN:VCALENDAR
VERSION:2.0
PRODID:https://www.umweltkalender-berlin.de
BEGIN:VTIMEZONE
TZID:Europe/Berlin
X-LIC-LOCATION:Europe/Berlin
BEGIN:DAYLIGHT
TZOFFSETFROM:+0100
TZOFFSETTO:+0200
TZNAME:CEST
DTSTART:19700329T020000
RRULE:FREQ=YEARLY;BYDAY=-1SU;BYMONTH=3
END:DAYLIGHT
BEGIN:STANDARD
TZOFFSETFROM:+0200
TZOFFSETTO:+0100
TZNAME:CET
DTSTART:19701025T030000
RRULE:FREQ=YEARLY;BYDAY=-1SU;BYMONTH=10
END:STANDARD
END:VTIMEZONE
BEGIN:VEVENT
LOCATION:
SUMMARY:Werde Green-Fluencer*in in deinem Kiez!
DESCRIPTION:Immer mehr Menschen beschäftigen sich mit Umweltproblemen wie der Vermüllung unseres Planeten oder der Ausbeutung von Ressourcen. Um einen kleinen Beitrag zu einer nachhaltigeren Welt zu leisten, überdenken wir unser Verhalten und unsere Alltagsroutinen. Wenn es jedoch darum geht, auch unsere Mitmenschen dazu zu motivieren, nachhaltiger zu leben, stoßen wir häufig an unsere Grenzen. Die eigenen Essgewohnheiten oder das Konsumverhalten – all das ist verbunden mit Emotionen, die in Diskussionen gerne mal hochkochen.&nbsp;&nbsp;Das kommt euch bekannt vor und ihr seid auf der Suche nach&nbsp;Werkzeugen für eine verständnisvolle Kommunikation? Mit dem&nbsp;Green-Fluencer*innen-Magazin&nbsp;haben wir genau das Richtige für euch.&nbsp;Das&nbsp;Green-Fluencer*innen-Magazin&nbsp;ist für alle, die&nbsp;mit ihrem&nbsp;privaten und beruflichen Umfeld&nbsp;über Zukunftsthemen sprechen und sie zu einem nachhaltigeren Lebensstil ermutigen möchten.&nbsp;Neben konkreten Werkzeugen aus der Kommunikation&nbsp;findet ihr im&nbsp;Green-Fluencer*innen-Magazin&nbsp;Grundlagenwissen aus der Umweltpsychologie&nbsp;und viele Beispiele aus dem Alltag, welche einen ersten Eindruck&nbsp;und ein Gefühl für&nbsp;einen erfolgreichen&nbsp;Dialog&nbsp;auf Augenhöhe vermitteln&nbsp;sollen.&nbsp;Ihr seid neugierig geworden und möchtet die erste Ausgabe des&nbsp;Green-Fluencer*innen-Magazins&nbsp;„Müll reduzieren und nachhaltiger konsumieren”&nbsp;kostenlos downloaden?&nbsp;&nbsp;Zum Download des Green-Fluencer*innen-Magazins ➜&nbsp;allesimfluss.berlin/green-fluencer/
DTSTART;TZID=Europe/Berlin:

CLASS:PUBLIC
END:VEVENT
END:VCALENDAR
