BEGIN:VCALENDAR
VERSION:2.0
PRODID:https://www.umweltkalender-berlin.de
BEGIN:VTIMEZONE
TZID:Europe/Berlin
X-LIC-LOCATION:Europe/Berlin
BEGIN:DAYLIGHT
TZOFFSETFROM:+0100
TZOFFSETTO:+0200
TZNAME:CEST
DTSTART:19700329T020000
RRULE:FREQ=YEARLY;BYDAY=-1SU;BYMONTH=3
END:DAYLIGHT
BEGIN:STANDARD
TZOFFSETFROM:+0200
TZOFFSETTO:+0100
TZNAME:CET
DTSTART:19701025T030000
RRULE:FREQ=YEARLY;BYDAY=-1SU;BYMONTH=10
END:STANDARD
END:VTIMEZONE
BEGIN:VEVENT
LOCATION:S-Bhf. Plänterwald, 12435 Berlin
SUMMARY:Entdecke die Berliner Natur im Spreepark - City Nature Challenge
DESCRIPTION:Fotografiere die Tiere, Pflanzen und Pilze dieser Stadt. Für die Wissenschaft und für den Naturschutz.Das Museum für Naturkunde Berlin, Yeşil Çember und Grün Berlin laden zur City Nature Challenge in den Spreepark. Wir fotografieren Tiere, Pflanzen und Pilze im Spreepark und leisten so einen wichtigen Beitrag für die Wissenschaft und den Naturschutz. Wir lernen den besonderen Ort Spreepark kennen.Die City Nature Challenge ist ein freundschaftlicher Wettbewerb, an dem weltweit gleichzeitig ca. 1000 Städte teilnehmen. Es sollen möglichst viele Daten zur Artenvielfalt an einem Wochenende gesammelt werden: Wo werden die meisten Arten dokumentiert? Wer hat die meisten Beobachtungen gemacht? Wie viele Personen machen mit?Lade die kostenlose iNaturalist App herunter und erstelle einen Account. Wir erklären alles weitere vor Ort. Wenn du kein Smartphone hast, leihen wir dir ein Aufnahmegerät.Dies ist ein inklusives Angebot und für Personen geeignet, die nur geringe Deutschkenntnisse haben. Es steht aber auch allen anderen Personen offen.&nbsp;
DTSTART;TZID=Europe/Berlin:20260424T153000
DTEND;TZID=Europe/Berlin:20260424T173000
CLASS:PUBLIC
END:VEVENT
END:VCALENDAR
