BEGIN:VCALENDAR
VERSION:2.0
PRODID:https://www.umweltkalender-berlin.de
BEGIN:VTIMEZONE
TZID:Europe/Berlin
X-LIC-LOCATION:Europe/Berlin
BEGIN:DAYLIGHT
TZOFFSETFROM:+0100
TZOFFSETTO:+0200
TZNAME:CEST
DTSTART:19700329T020000
RRULE:FREQ=YEARLY;BYDAY=-1SU;BYMONTH=3
END:DAYLIGHT
BEGIN:STANDARD
TZOFFSETFROM:+0200
TZOFFSETTO:+0100
TZNAME:CET
DTSTART:19701025T030000
RRULE:FREQ=YEARLY;BYDAY=-1SU;BYMONTH=10
END:STANDARD
END:VTIMEZONE
BEGIN:VEVENT
LOCATION:Prinzenstraße 85C, 10969 Berlin
SUMMARY:Nachhaltigkeit &amp; Technologie verbinden - Projekttage für Schulen
DESCRIPTION:Was ist Making?Making bedeutet kreatives Tüfteln mit analogen und digitalen Werkzeugen, von Lötkolben bis Tablet. Im schulischen Kontext steht Making für handlungsorientiertes Lernen: Schüler*innen setzen eigene Ideen um, arbeiten praxisnah und lernen durch Ausprobieren. So wird Lernen konkret, motivierend und greifbar.Was ist Maker Education?Maker Education ist ein pädagogischer Ansatz, der Making als festen Bestandteil in Schule integriert. Im Zentrum stehen selbstgesteuertes Arbeiten und die Entwicklung eigener Prototypen, bei denen Fehler als Lernchance genutzt werden. Das stärkt Zukunftskompetenzen wie Kreativität, kritisches Denken und digitale Mündigkeit.Was sind Makerspaces?Makerspaces sind offene Lernräume, in denen Schüler*innen mit Werkzeugen, Materialien und digitalen Technologien arbeiten können. Sowohl fest eingerichtet als auch mobil im Klassenzimmer bietet ein Makerspace Raum für projektbasiertes Lernen, Gestaltung und Zusammenarbeit. So entstehen neue Lernzugänge für verschiedene Altersgruppen und Schulkontexte.Weitere Informationen finden Sie auf unserer Website.
DTSTART;TZID=Europe/Berlin:T093000
DTEND;TZID=Europe/Berlin:T123000
CLASS:PUBLIC
END:VEVENT
END:VCALENDAR
