BEGIN:VCALENDAR
VERSION:2.0
PRODID:https://www.umweltkalender-berlin.de
BEGIN:VTIMEZONE
TZID:Europe/Berlin
X-LIC-LOCATION:Europe/Berlin
BEGIN:DAYLIGHT
TZOFFSETFROM:+0100
TZOFFSETTO:+0200
TZNAME:CEST
DTSTART:19700329T020000
RRULE:FREQ=YEARLY;BYDAY=-1SU;BYMONTH=3
END:DAYLIGHT
BEGIN:STANDARD
TZOFFSETFROM:+0200
TZOFFSETTO:+0100
TZNAME:CET
DTSTART:19701025T030000
RRULE:FREQ=YEARLY;BYDAY=-1SU;BYMONTH=10
END:STANDARD
END:VTIMEZONE
BEGIN:VEVENT
LOCATION:
SUMMARY:Wildtiere in der Stadt im Winter
DESCRIPTION:Welche wilden Tiere wohnen in der Stadt? Was macht sie wild? Und wieso kommen sie in die Stadt? Bei der Nemo-Veranstaltung "Wildtiere in der Stadt" entdecken die Kinder, welche Tiere hier oft unbemerkt mit uns wohnen. Die Schüler*innen erfahren, was eine Nahrungskette ist und wie unterschiedliche Tier- und Pflanzenarten darin miteinander in Beziehung stehen. Die Kinder machen sich auf zur Spurensuche und entdecken Fährten, vielleicht sogar von Nachtaktiven. Mit spannenden und lustigen Spielen entwickeln die Schüler*innen eine Beziehung zu heimischen Wildtieren und erfahren, warum es wichtig ist, diese zu schützen.&nbsp;Welche Tiere überwintern bei uns? Welche sind weggezogen? Welche Tiere halten Winterschlaf und welche ruhen nur? Wir gehen den Tieren im winterlichen Stadtpark auf die Spur!Die Kinder suchen Tierspuren und beobachten und erforschen verschiedene Tierarten und ihre Anpassung an den Lebensraum (Sachunterricht/Nawi), sie erweitern ihren Wortschatz über Tiere (Sachunterricht/Nawi, Sprache), sie bewegen sich in der Natur (Sport), entwickeln Empathie und übernehmen Verantwortung (Selbstkompetenz).
DTSTART;TZID=Europe/Berlin:20240222T080000
DTEND;TZID=Europe/Berlin:20240222T120000
CLASS:PUBLIC
END:VEVENT
END:VCALENDAR
