BEGIN:VCALENDAR
VERSION:2.0
PRODID:https://www.umweltkalender-berlin.de
BEGIN:VTIMEZONE
TZID:Europe/Berlin
X-LIC-LOCATION:Europe/Berlin
BEGIN:DAYLIGHT
TZOFFSETFROM:+0100
TZOFFSETTO:+0200
TZNAME:CEST
DTSTART:19700329T020000
RRULE:FREQ=YEARLY;BYDAY=-1SU;BYMONTH=3
END:DAYLIGHT
BEGIN:STANDARD
TZOFFSETFROM:+0200
TZOFFSETTO:+0100
TZNAME:CET
DTSTART:19701025T030000
RRULE:FREQ=YEARLY;BYDAY=-1SU;BYMONTH=10
END:STANDARD
END:VTIMEZONE
BEGIN:VEVENT
LOCATION:Wannseebadweg/Kronprinzessinnenweg, 14129 Berlin
SUMMARY:Schatzsuche im Grunewald
DESCRIPTION:Opa Wusel ist ein echter Wildschwein-Förster und denkt sich immer spannende Abenteuer für die Berliner Frischlinge aus. Jetzt hat er sich etwas Neues einfallen lassen: eine Schatzsuche.&nbsp;Ihr könnt seine Schatzsuche jederzeit eigenständig zusammen mit eurer Familie, Freund*innen oder, wenn ihr schon alt genug seid, auch alleine machen. Kommt dazu einfach zum Startpunkt. Dort beginnt direkt euer Abenteuer. Ihr müsst die Schatzkarte und das Rätselblatt&nbsp;schon zu Hause ausdrucken und mitnehmen. Die Schatzsuche startet an der Waldkarte an der Kreuzung Wannseebadweg und Kronprinzessinnenweg und führt auf einem 3,8 km langen, rollstuhlgerechten Weg durch den Grunewald. (Leider sind die Verstecke der Schatzsuche nur in Einzelfällen mit dem Rollstuhl erreichbar, da sie etwas abseits des Weges liegen.) Die Waldkarte findet ihr an der auf der Karte gesetzten Markierung. Viel Spaß und Erfolg!P.S.: Wir kontrollieren die Strecke regelmäßig. Sollte jedoch trotzdem mal etwas fehlen, schreibt uns gern unter: waldentdeckenberlin@posteo.de
DTSTART;TZID=Europe/Berlin:

CLASS:PUBLIC
END:VEVENT
END:VCALENDAR
