BEGIN:VCALENDAR
VERSION:2.0
PRODID:https://www.umweltkalender-berlin.de
BEGIN:VTIMEZONE
TZID:Europe/Berlin
X-LIC-LOCATION:Europe/Berlin
BEGIN:DAYLIGHT
TZOFFSETFROM:+0100
TZOFFSETTO:+0200
TZNAME:CEST
DTSTART:19700329T020000
RRULE:FREQ=YEARLY;BYDAY=-1SU;BYMONTH=3
END:DAYLIGHT
BEGIN:STANDARD
TZOFFSETFROM:+0200
TZOFFSETTO:+0100
TZNAME:CET
DTSTART:19701025T030000
RRULE:FREQ=YEARLY;BYDAY=-1SU;BYMONTH=10
END:STANDARD
END:VTIMEZONE
BEGIN:VEVENT
LOCATION:
SUMMARY:Unsere Vögel - Warum wir sie brauchen und wie wir sie schützen können
DESCRIPTION:Vögel strahlen Schönheit, Anmut und Freiheit aus. Wenn sie verschwinden, werden auch wir verschwinden. Der Vogelkundler Peter Berthold zeigt uns den Weg, dies zu verhindern.Das aufblitzende Blau eines Eisvogels. Das Gelb des Pirols im Blätterdach eines Auwaldes. Ein Schwan vor dunklem Schilf. Auch der Morgenchor in unseren Wäldern oder das Abendlied einer Amsel über den Dächern der Stadt machen uns staunen, so wie die schwebende Möwe im Sturm oder der Adler im Aufwind. Vögel faszinieren uns auf vielfältige Weise. Und sie sind uns ans Herz gewachsen. Doch Vögel sind auch unsere wichtigsten Bioindikatoren. Ihr zunehmendes Verschwinden zeigt uns, dass es um ihren und unseren Lebensraum in diesem Land nicht gut bestellt ist. Denn das Artensterben hat inzwischen alle Gruppen von Tieren und Pflanzen erfasst und macht auch vor dem Menschen nicht Halt. Es wird höchste Zeit, daran etwas zu ändern. Peter Berthold, Deutschlands renommiertester Ornithologe, zeigt uns in seinem faszinierenden Buch die Vielfalt unserer Vogelwelt, aber auch, weshalb sie gefährdet ist und was wir tun können, um sie zu erhalten.Autor: Peter Berthold;&nbsp;Herausgeber:                            Ullstein eBooks; ISBN: 9783843715485; Freigabedatum: 12. Mai 2017; EPUB-ebook                                                                                                                                                                                                                                                                                                                                                                                                                                                                                                                                        ISBN: 9783843715485; Dateigröße: 12805 KB; Freigabedatum: 12. Mai 2017Zum E-Book des VÖBB geht's hier.
DTSTART;TZID=Europe/Berlin:

CLASS:PUBLIC
END:VEVENT
END:VCALENDAR
