BEGIN:VCALENDAR
VERSION:2.0
PRODID:https://www.umweltkalender-berlin.de
BEGIN:VTIMEZONE
TZID:Europe/Berlin
X-LIC-LOCATION:Europe/Berlin
BEGIN:DAYLIGHT
TZOFFSETFROM:+0100
TZOFFSETTO:+0200
TZNAME:CEST
DTSTART:19700329T020000
RRULE:FREQ=YEARLY;BYDAY=-1SU;BYMONTH=3
END:DAYLIGHT
BEGIN:STANDARD
TZOFFSETFROM:+0200
TZOFFSETTO:+0100
TZNAME:CET
DTSTART:19701025T030000
RRULE:FREQ=YEARLY;BYDAY=-1SU;BYMONTH=10
END:STANDARD
END:VTIMEZONE
BEGIN:VEVENT
LOCATION:Düppeler Forst, 14109 Berlin
SUMMARY:Düppeler Forst und Pfaueninsel
DESCRIPTION:Der Düppeler Forst ist der kleinste der fünf bedeutenden Berliner Forsten. In den Kiefernmisch- und Laubwaldgebieten kann man herrlich spazieren gehen. Das Vogelschutzgebiet Westlicher Düppeler Forst mit den bedeutenden Altbaumbeständen hat eine besondere Bedeutung für Mittel- und Schwarzspecht. Weitere besondere Brutvögel sind Schwarzmilan, Hohltaube, Neuntöter, Drosselrohrsänger und Zwergschnäpper. Naturräumlich stellt das Gebiet die Fortsetzung des Grunewaldes entlang des Havelufers dar. Der Düppeler Forst zeichnet sich durch naturnahe Waldbereiche und alten Baumbestand aus. Kleinflächige Niedermoore und halboffene Sukzessionsflächen sind jedoch ebenso charakteristisch. Landschaftlich besonders reizvoll sind die Havelufer, die Pfaueninsel und der als englischer Landschaftspark angelegte Volkspark Klein-Glienicke.Im östlichen Teil des Düppeler Forsts findet sich das Naturschutzgebiet Großes Fenn.Weitere Informationen gibt es hier.
DTSTART;TZID=Europe/Berlin:

CLASS:PUBLIC
END:VEVENT
END:VCALENDAR
