BEGIN:VCALENDAR
VERSION:2.0
PRODID:https://www.umweltkalender-berlin.de
BEGIN:VTIMEZONE
TZID:Europe/Berlin
X-LIC-LOCATION:Europe/Berlin
BEGIN:DAYLIGHT
TZOFFSETFROM:+0100
TZOFFSETTO:+0200
TZNAME:CEST
DTSTART:19700329T020000
RRULE:FREQ=YEARLY;BYDAY=-1SU;BYMONTH=3
END:DAYLIGHT
BEGIN:STANDARD
TZOFFSETFROM:+0200
TZOFFSETTO:+0100
TZNAME:CET
DTSTART:19701025T030000
RRULE:FREQ=YEARLY;BYDAY=-1SU;BYMONTH=10
END:STANDARD
END:VTIMEZONE
BEGIN:VEVENT
LOCATION:
SUMMARY:Bäume – Giganten des Lebens im Sommer
DESCRIPTION:Sie sind die größten und ältesten Lebewesen der Welt. Wir Menschen und viele Tierarten sind auf sie angewiesen – unsere Bäume. Warum blühen manche Bäume nicht jeden Sommer? Schwitzen sie&nbsp; bei größer Hitze? Und warum wirken Bäume im Sommer wie eine Klimaanlage?Mit Forschermaterialien und viel Fingerspitzengefühl gehen wir in Kleingruppen auf Entdeckungsreise und lernen die Giganten unseres Lebens kennen – von der Wurzel bis zur Krone. Spielerisch erfahren wir, was Bäume alles leisten und wägen ab, welche Vor- und Nachteile die Nutzung von Bäumen als Holz- oder Papierlieferanten mit sich bringt. Die Kinder erkennen Funktion und Nutzen von Bäumen in ihrem Umfeld (Sachunterricht), lernen verschiedene Baum- und Tierarten und deren Wechselbeziehungen kennen und erweitern ihren Wortschatz (Sachunterricht/Nawi, Sprache), sie beobachten die Veränderungen in der Natur und stellen eine Beziehung zu ihr her (Sachunterricht/Nawi, Selbstkompetenz), treffen Entscheidungen und übernehmen Verantwortung (Sozialkompetenz).
DTSTART;TZID=Europe/Berlin:20250721T080000
DTEND;TZID=Europe/Berlin:20250721T120000
CLASS:PUBLIC
END:VEVENT
END:VCALENDAR
