BEGIN:VCALENDAR
VERSION:2.0
PRODID:https://www.umweltkalender-berlin.de
BEGIN:VTIMEZONE
TZID:Europe/Berlin
X-LIC-LOCATION:Europe/Berlin
BEGIN:DAYLIGHT
TZOFFSETFROM:+0100
TZOFFSETTO:+0200
TZNAME:CEST
DTSTART:19700329T020000
RRULE:FREQ=YEARLY;BYDAY=-1SU;BYMONTH=3
END:DAYLIGHT
BEGIN:STANDARD
TZOFFSETFROM:+0200
TZOFFSETTO:+0100
TZNAME:CET
DTSTART:19701025T030000
RRULE:FREQ=YEARLY;BYDAY=-1SU;BYMONTH=10
END:STANDARD
END:VTIMEZONE
BEGIN:VEVENT
LOCATION:Niederkirchnerstraße 5, 10117 Berlin
SUMMARY:Ausschuss für Umwelt- und Klimaschutz
DESCRIPTION:Thema für die erste Sitzung des Umwelt und Klimaausschusses nach der parlamentarischen Sommerpause&nbsp; ist der Haushaltsplan 2026 und 2027.&nbsp;Die Sitzung wird außerdem live übertragen.Die Tagesordnung finden Sie hier&nbsp;als PDF.
DTSTART;TZID=Europe/Berlin:20260528T090000
DTEND;TZID=Europe/Berlin:20260528T120000
CLASS:PUBLIC
END:VEVENT
END:VCALENDAR
