BEGIN:VCALENDAR
VERSION:2.0
PRODID:https://www.umweltkalender-berlin.de
BEGIN:VTIMEZONE
TZID:Europe/Berlin
X-LIC-LOCATION:Europe/Berlin
BEGIN:DAYLIGHT
TZOFFSETFROM:+0100
TZOFFSETTO:+0200
TZNAME:CEST
DTSTART:19700329T020000
RRULE:FREQ=YEARLY;BYDAY=-1SU;BYMONTH=3
END:DAYLIGHT
BEGIN:STANDARD
TZOFFSETFROM:+0200
TZOFFSETTO:+0100
TZNAME:CET
DTSTART:19701025T030000
RRULE:FREQ=YEARLY;BYDAY=-1SU;BYMONTH=10
END:STANDARD
END:VTIMEZONE
BEGIN:VEVENT
LOCATION:Mohriner Allee 152, 12347 Berlin
SUMMARY:Führung durch den Britzer Garten
DESCRIPTION:Wie ist die Bundesgartenschau nach Britz gekommen, wie sah es vor Entstehung des Britzer Gartens dort aus und wie kam der große See dorthin? Erfahrt auf der geführten Tour Spannendes rund um die Entstehungsgeschichte und erlebt saisonale Attraktionen.Alle Termine und Themen finden Sie hier.
DTSTART;TZID=Europe/Berlin:20250914T110000
DTEND;TZID=Europe/Berlin:20250914T123000
CLASS:PUBLIC
END:VEVENT
END:VCALENDAR
