BEGIN:VCALENDAR
VERSION:2.0
PRODID:https://www.umweltkalender-berlin.de
BEGIN:VTIMEZONE
TZID:Europe/Berlin
X-LIC-LOCATION:Europe/Berlin
BEGIN:DAYLIGHT
TZOFFSETFROM:+0100
TZOFFSETTO:+0200
TZNAME:CEST
DTSTART:19700329T020000
RRULE:FREQ=YEARLY;BYDAY=-1SU;BYMONTH=3
END:DAYLIGHT
BEGIN:STANDARD
TZOFFSETFROM:+0200
TZOFFSETTO:+0100
TZNAME:CET
DTSTART:19701025T030000
RRULE:FREQ=YEARLY;BYDAY=-1SU;BYMONTH=10
END:STANDARD
END:VTIMEZONE
BEGIN:VEVENT
LOCATION:Albrechtstraße 81a, 12167 Berlin
SUMMARY:MEKKI-Repair Café Steglitz
DESCRIPTION:Einmal im Monat bietet das MEKKI-Repair Café die Möglichkeit, defekte Geräte oder Gegenstände kostenlos und unter der Anleitung von Experten wieder flott zu machen. Das verlängert nicht nur die Lebensdauer liebgewonnener Dinge, sondern erspart auch unnötige Neukäufe – das schont die Umwelt und den Geldbeutel.Alle Infos hier.
DTSTART;TZID=Europe/Berlin:20260423T170000
DTEND;TZID=Europe/Berlin:20260423T200000
CLASS:PUBLIC
END:VEVENT
END:VCALENDAR
