BEGIN:VCALENDAR
VERSION:2.0
PRODID:https://www.umweltkalender-berlin.de
BEGIN:VTIMEZONE
TZID:Europe/Berlin
X-LIC-LOCATION:Europe/Berlin
BEGIN:DAYLIGHT
TZOFFSETFROM:+0100
TZOFFSETTO:+0200
TZNAME:CEST
DTSTART:19700329T020000
RRULE:FREQ=YEARLY;BYDAY=-1SU;BYMONTH=3
END:DAYLIGHT
BEGIN:STANDARD
TZOFFSETFROM:+0200
TZOFFSETTO:+0100
TZNAME:CET
DTSTART:19701025T030000
RRULE:FREQ=YEARLY;BYDAY=-1SU;BYMONTH=10
END:STANDARD
END:VTIMEZONE
BEGIN:VEVENT
LOCATION:Seelower Str. 1-3, 10439 Berlin
SUMMARY:Bauernmarkt Seelower Straße
DESCRIPTION:Der Bauernmarkt liegt in der Seelower Str. 1-3, sehr zentral in der Nähe der Schönhauser Allee Arcaden, dem Einkaufszentrum im Prenzlauer Berg.&nbsp;Seine 20 Händler bieten nahezu ausschließlich Qualitätsprodukte bzw. Lebensmittel an, mit Schwerpunkten im Bio-Bereich.&nbsp;Dieser Markt basiert auf den Erfahrungen die wir mit unserem Berlin-Brandenburger-Bauernmarkt auf dem Wittenbergplatz nunmehr in 1½ Jahrzehnten sammeln konnten.Weitere Informationen finden Sie hier.
DTSTART;TZID=Europe/Berlin:20260214T100000
DTEND;TZID=Europe/Berlin:20260214T160000
CLASS:PUBLIC
END:VEVENT
END:VCALENDAR
