BEGIN:VCALENDAR
VERSION:2.0
PRODID:https://www.umweltkalender-berlin.de
BEGIN:VTIMEZONE
TZID:Europe/Berlin
X-LIC-LOCATION:Europe/Berlin
BEGIN:DAYLIGHT
TZOFFSETFROM:+0100
TZOFFSETTO:+0200
TZNAME:CEST
DTSTART:19700329T020000
RRULE:FREQ=YEARLY;BYDAY=-1SU;BYMONTH=3
END:DAYLIGHT
BEGIN:STANDARD
TZOFFSETFROM:+0200
TZOFFSETTO:+0100
TZNAME:CET
DTSTART:19701025T030000
RRULE:FREQ=YEARLY;BYDAY=-1SU;BYMONTH=10
END:STANDARD
END:VTIMEZONE
BEGIN:VEVENT
LOCATION:Osloer Straße 12, 13359 Berlin
SUMMARY:Repair Café im Soldiner Kiez
DESCRIPTION:WIR REPARIEREN… Elektronische und mechanische Haushaltsgeräte, Textilien, Fahrräder, Spielzeuge und andere Dinge.Die Aktivitäten des Repair Cafés werden kostenlos und auf ehrenamtlicher Basis von den ReparaturexpertInnen vor Ort ausgeführt. Wir sind aber kein „kostenloser Reparatur Service“! Lest euch bitte vor eurer Teilnahme unsere&nbsp;Bekanntmachung&nbsp;durch.Hast Du Lust mitz­u­m­a­c­hen? Wir suc­hen ehrenam­t­l­ic­he Hel­f­e­rIn­nen, die bei der Vorber­e­i­t­ung und Organisation hel­f­en kön­nen, sowie Ele­ktr­i­kerIn­nen, Schneide­rIn­nen und Me­c­ha­ni­ke­rIn­nen, aktiv oder in Rente, die Lust haben, and­ere bei der Re­par­atur ihrer de­f­ek­ten Dinge zu unter­stüt­zen.Weltweit gibt es schon weit mehr als 1000 Repair Cafés! Gemeinsam vermeiden wir mit unseren ehrenamtlichen Reparateuren rund 285.000 Kilo Abfall jährlich.
DTSTART;TZID=Europe/Berlin:20260212T170000
DTEND;TZID=Europe/Berlin:20260212T200000
CLASS:PUBLIC
END:VEVENT
END:VCALENDAR
