BEGIN:VCALENDAR
VERSION:2.0
PRODID:https://www.umweltkalender-berlin.de
BEGIN:VTIMEZONE
TZID:Europe/Berlin
X-LIC-LOCATION:Europe/Berlin
BEGIN:DAYLIGHT
TZOFFSETFROM:+0100
TZOFFSETTO:+0200
TZNAME:CEST
DTSTART:19700329T020000
RRULE:FREQ=YEARLY;BYDAY=-1SU;BYMONTH=3
END:DAYLIGHT
BEGIN:STANDARD
TZOFFSETFROM:+0200
TZOFFSETTO:+0100
TZNAME:CET
DTSTART:19701025T030000
RRULE:FREQ=YEARLY;BYDAY=-1SU;BYMONTH=10
END:STANDARD
END:VTIMEZONE
BEGIN:VEVENT
LOCATION:Columbiadamm 124, 10965 Berlin
SUMMARY:Kindergeburtstag feiern auf dem Tempelhofer Feld
DESCRIPTION:Statt ins Kino zu gehen, können Kinder ab 7 Jahren spannende Naturstreifzüge mit Ferngläsern, Becherlupen oder Keschern auf dem Tempelhofer Feld unternehmen. Die Streifzüge mit fachlicher Anleitung aber auch viel Spaß dauern zwei Stunden und kosten 80 €.&nbsp;
DTSTART;TZID=Europe/Berlin:20210501

CLASS:PUBLIC
END:VEVENT
END:VCALENDAR
